Workbook

Sheet 工作日誌
A1: 工作日誌
A2: Gadget Memo 製作｜gadgetmemo.com 狀態可從下拉選單選擇，工時與每週彙總會自動計算
A4: 日期 | B4: 星期 | C4: 工作項目 | D4: 所屬專案 | E4: 狀態 | F4: 進度 % | G4: 工時（小時） | H4: 遇到的問題 | I4: 明日計畫
A5: 46328 | B5: =IF(A5="","",CHOOSE(WEEKDAY(A5),"日","一","二","三","四","五","六")) | C5: 更新第四季行銷預算表 | D5: 行銷預算 | E5: 已完成 | F5: 1 | G5: 2 | I5: 整理廣告成效數據
A6: 46328 | B6: =IF(A6="","",CHOOSE(WEEKDAY(A6),"日","一","二","三","四","五","六")) | C6: 回覆客戶詢價並寄出報價單 | D6: 客戶 A | E6: 已完成 | F6: 1 | G6: 1.5 | I6: 追蹤客戶回覆
A7: 46328 | B7: =IF(A7="","",CHOOSE(WEEKDAY(A7),"日","一","二","三","四","五","六")) | C7: 新官網首頁文案 | D7: 官網改版 | E7: 進行中 | F7: 0.4 | G7: 3 | H7: 產品照片尚未提供 | I7: 完成產品頁文案
A8: 46329 | B8: =IF(A8="","",CHOOSE(WEEKDAY(A8),"日","一","二","三","四","五","六")) | C8: 整理廣告成效數據 | D8: 行銷預算 | E8: 已完成 | F8: 1 | G8: 2.5 | I8: 撰寫成效摘要
A9: 46329 | B9: =IF(A9="","",CHOOSE(WEEKDAY(A9),"日","一","二","三","四","五","六")) | C9: 新官網產品頁文案 | D9: 官網改版 | E9: 進行中 | F9: 0.6 | G9: 4 | I9: 交給設計排版
A10: 46330 | B10: =IF(A10="","",CHOOSE(WEEKDAY(A10),"日","一","二","三","四","五","六")) | C10: 供應商會議 | D10: 採購 | E10: 已完成 | F10: 1 | G10: 1 | H10: 交期延後一週 | I10: 更新專案時程
A11: 46330 | B11: =IF(A11="","",CHOOSE(WEEKDAY(A11),"日","一","二","三","四","五","六")) | C11: 新官網產品頁文案 | D11: 官網改版 | E11: 進行中 | F11: 0.8 | G11: 3.5 | I11: 最終校對
B12: =IF(A12="","",CHOOSE(WEEKDAY(A12),"日","一","二","三","四","五","六"))
B13: =IF(A13="","",CHOOSE(WEEKDAY(A13),"日","一","二","三","四","五","六"))
B14: =IF(A14="","",CHOOSE(WEEKDAY(A14),"日","一","二","三","四","五","六"))
B15: =IF(A15="","",CHOOSE(WEEKDAY(A15),"日","一","二","三","四","五","六"))
B16: =IF(A16="","",CHOOSE(WEEKDAY(A16),"日","一","二","三","四","五","六"))
B17: =IF(A17="","",CHOOSE(WEEKDAY(A17),"日","一","二","三","四","五","六"))
B18: =IF(A18="","",CHOOSE(WEEKDAY(A18),"日","一","二","三","四","五","六"))
B19: =IF(A19="","",CHOOSE(WEEKDAY(A19),"日","一","二","三","四","五","六"))
B20: =IF(A20="","",CHOOSE(WEEKDAY(A20),"日","一","二","三","四","五","六"))
B21: =IF(A21="","",CHOOSE(WEEKDAY(A21),"日","一","二","三","四","五","六"))
B22: =IF(A22="","",CHOOSE(WEEKDAY(A22),"日","一","二","三","四","五","六"))
B23: =IF(A23="","",CHOOSE(WEEKDAY(A23),"日","一","二","三","四","五","六"))
... B64: =IF(A64="","",CHOOSE(WEEKDAY(A64),"日","一","二","三","四","五","六"))
F65: 總工時 | G65: =SUM(G5:G64)

Sheet 每週彙總
A1: 每週工時彙總（自動計算）
A2: 在 A 欄填入每週的週一日期，其他欄位會自動從「工作日誌」計算
A4: 週一日期 | B4: 週日日期 | C4: 總工時 | D4: 工作筆數 | E4: 已完成筆數 | F4: 完成率 | G4: 卡關筆數
A5: 46328 | B5: =A5+6 | C5: =SUMIFS(工作日誌!$G$5:$G$64,工作日誌!$A$5:$A$64,">="&A5,工作日誌!$A$5:$A$64,"<="&B5) | D5: =COUNTIFS(工作日誌!$A$5:$A$64,">="&A5,工作日誌!$A$5:$A$64,"<="&B5) | E5: =COUNTIFS(工作日誌!$A$5:$A$64,">="&A5,工作日誌!$A$5:$A$64,"<="&B5,工作日誌!$E$5:$E$64,"已完成") | F5: =IF(D5=0,"",E5/D5) | G5: =COUNTIFS(工作日誌!$A$5:$A$64,">="&A5,工作日誌!$A$5:$A$64,"<="&B5,工作日誌!$E$5:$E$64,"卡關")
A6: =A5+7 | B6: =A6+6 | C6: =SUMIFS(工作日誌!$G$5:$G$64,工作日誌!$A$5:$A$64,">="&A6,工作日誌!$A$5:$A$64,"<="&B6) | D6: =COUNTIFS(工作日誌!$A$5:$A$64,">="&A6,工作日誌!$A$5:$A$64,"<="&B6) | E6: =COUNTIFS(工作日誌!$A$5:$A$64,">="&A6,工作日誌!$A$5:$A$64,"<="&B6,工作日誌!$E$5:$E$64,"已完成") | F6: =IF(D6=0,"",E6/D6) | G6: =COUNTIFS(工作日誌!$A$5:$A$64,">="&A6,工作日誌!$A$5:$A$64,"<="&B6,工作日誌!$E$5:$E$64,"卡關")
A7: =A6+7 | B7: =A7+6 | C7: =SUMIFS(工作日誌!$G$5:$G$64,工作日誌!$A$5:$A$64,">="&A7,工作日誌!$A$5:$A$64,"<="&B7) | D7: =COUNTIFS(工作日誌!$A$5:$A$64,">="&A7,工作日誌!$A$5:$A$64,"<="&B7) | E7: =COUNTIFS(工作日誌!$A$5:$A$64,">="&A7,工作日誌!$A$5:$A$64,"<="&B7,工作日誌!$E$5:$E$64,"已完成") | F7: =IF(D7=0,"",E7/D7) | G7: =COUNTIFS(工作日誌!$A$5:$A$64,">="&A7,工作日誌!$A$5:$A$64,"<="&B7,工作日誌!$E$5:$E$64,"卡關")
A8: =A7+7 | B8: =A8+6 | C8: =SUMIFS(工作日誌!$G$5:$G$64,工作日誌!$A$5:$A$64,">="&A8,工作日誌!$A$5:$A$64,"<="&B8) | D8: =COUNTIFS(工作日誌!$A$5:$A$64,">="&A8,工作日誌!$A$5:$A$64,"<="&B8) | E8: =COUNTIFS(工作日誌!$A$5:$A$64,">="&A8,工作日誌!$A$5:$A$64,"<="&B8,工作日誌!$E$5:$E$64,"已完成") | F8: =IF(D8=0,"",E8/D8) | G8: =COUNTIFS(工作日誌!$A$5:$A$64,">="&A8,工作日誌!$A$5:$A$64,"<="&B8,工作日誌!$E$5:$E$64,"卡關")
A9: =A8+7 | B9: =A9+6 | C9: =SUMIFS(工作日誌!$G$5:$G$64,工作日誌!$A$5:$A$64,">="&A9,工作日誌!$A$5:$A$64,"<="&B9) | D9: =COUNTIFS(工作日誌!$A$5:$A$64,">="&A9,工作日誌!$A$5:$A$64,"<="&B9) | E9: =COUNTIFS(工作日誌!$A$5:$A$64,">="&A9,工作日誌!$A$5:$A$64,"<="&B9,工作日誌!$E$5:$E$64,"已完成") | F9: =IF(D9=0,"",E9/D9) | G9: =COUNTIFS(工作日誌!$A$5:$A$64,">="&A9,工作日誌!$A$5:$A$64,"<="&B9,工作日誌!$E$5:$E$64,"卡關")
A10: =A9+7 | B10: =A10+6 | C10: =SUMIFS(工作日誌!$G$5:$G$64,工作日誌!$A$5:$A$64,">="&A10,工作日誌!$A$5:$A$64,"<="&B10) | D10: =COUNTIFS(工作日誌!$A$5:$A$64,">="&A10,工作日誌!$A$5:$A$64,"<="&B10) | E10: =COUNTIFS(工作日誌!$A$5:$A$64,">="&A10,工作日誌!$A$5:$A$64,"<="&B10,工作日誌!$E$5:$E$64,"已完成") | F10: =IF(D10=0,"",E10/D10) | G10: =COUNTIFS(工作日誌!$A$5:$A$64,">="&A10,工作日誌!$A$5:$A$64,"<="&B10,工作日誌!$E$5:$E$64,"卡關")
A11: =A10+7 | B11: =A11+6 | C11: =SUMIFS(工作日誌!$G$5:$G$64,工作日誌!$A$5:$A$64,">="&A11,工作日誌!$A$5:$A$64,"<="&B11) | D11: =COUNTIFS(工作日誌!$A$5:$A$64,">="&A11,工作日誌!$A$5:$A$64,"<="&B11) | E11: =COUNTIFS(工作日誌!$A$5:$A$64,">="&A11,工作日誌!$A$5:$A$64,"<="&B11,工作日誌!$E$5:$E$64,"已完成") | F11: =IF(D11=0,"",E11/D11) | G11: =COUNTIFS(工作日誌!$A$5:$A$64,">="&A11,工作日誌!$A$5:$A$64,"<="&B11,工作日誌!$E$5:$E$64,"卡關")
A12: =A11+7 | B12: =A12+6 | C12: =SUMIFS(工作日誌!$G$5:$G$64,工作日誌!$A$5:$A$64,">="&A12,工作日誌!$A$5:$A$64,"<="&B12) | D12: =COUNTIFS(工作日誌!$A$5:$A$64,">="&A12,工作日誌!$A$5:$A$64,"<="&B12) | E12: =COUNTIFS(工作日誌!$A$5:$A$64,">="&A12,工作日誌!$A$5:$A$64,"<="&B12,工作日誌!$E$5:$E$64,"已完成") | F12: =IF(D12=0,"",E12/D12) | G12: =COUNTIFS(工作日誌!$A$5:$A$64,">="&A12,工作日誌!$A$5:$A$64,"<="&B12,工作日誌!$E$5:$E$64,"卡關")
A15: 各專案工時
A16: 專案名稱 | B16: 總工時
A17: 行銷預算 | B17: =IF(A17="","",SUMIF(工作日誌!$D$5:$D$64,A17,工作日誌!$G$5:$G$64))
A18: 客戶 A | B18: =IF(A18="","",SUMIF(工作日誌!$D$5:$D$64,A18,工作日誌!$G$5:$G$64))
A19: 官網改版 | B19: =IF(A19="","",SUMIF(工作日誌!$D$5:$D$64,A19,工作日誌!$G$5:$G$64))
A20: 採購 | B20: =IF(A20="","",SUMIF(工作日誌!$D$5:$D$64,A20,工作日誌!$G$5:$G$64))
B21: =IF(A21="","",SUMIF(工作日誌!$D$5:$D$64,A21,工作日誌!$G$5:$G$64))
B22: =IF(A22="","",SUMIF(工作日誌!$D$5:$D$64,A22,工作日誌!$G$5:$G$64))

Sheet 使用說明
A1: 使用說明
A2: 1. 每天下班前，在「工作日誌」逐列填入今天做的工作，一件事一列。
A3: 2. 狀態可從下拉選單選擇：未開始、進行中、已完成、卡關；卡關會自動標紅。
A4: 3. 進度請填 0% 到 100%，工時以小時計算，可填 0.5。
A5: 4.「每週彙總」會依日期自動計算每週總工時、完成率與卡關數，寫週報時直接引用。
A6: 5. 範例資料可直接刪除；上傳至 Google 雲端硬碟後可用 Google 試算表共同編輯。
A8: 由 Gadget Memo 製作，免費使用：https://gadgetmemo.com/
